BEGIN:VCALENDAR
VERSION:2.0
PRODID:-//wp-events-plugin.com//7.2.3.1//EN
TZID:Europe/Berlin
X-WR-TIMEZONE:Europe/Berlin
BEGIN:VEVENT
UID:88@panthony.de
DTSTART;TZID=Europe/Berlin:20260425T200000
DTEND;TZID=Europe/Berlin:20260425T220000
DTSTAMP:20260422T120926Z
URL:https://panthony.de/events/lovesongs-pietels-flugfish-hanna/
SUMMARY:Lovesongs - Pietels\, Flugfish & Hanna
DESCRIPTION:30 Jahre\, sieben Freunde und eine große Liebe zur Musik: „L
 ovesongs“ in der Theaterwerkstatt Ulm\nBesonders freut uns\, Ihnen ein E
 nsemble vorstellen zu dürfen\, dessen Wurzeln tief in der lokalen Kulturg
 eschichte verwurzelt sind: Mit Karin Probst und Uwe Nepomutzky stehen 
 zwei Gründungsmitglieder der Formation „Flugfische“ gemeinsam auf der
  Bühne\, deren Zusammenarbeit bereits 1994 am Theater Neu-Ulm begann. Mit
  dabei ist zudem Hanna Münch\, die das künstlerische Erbe der legendär
 en Ulmer „Westentasche“ (Familie Dentler) auf ganz eigene Weise fortf
 ührt.\n\nnter dem Titel „Lovesongs“ präsentiert das Septett am 25
 . April 2026 in der Theaterwerkstatt Ulm keine bloße Premiere\, sonder
 n eine Auswahl an Lieblingsliedern aus drei Jahrzehnten – in völlig neu
 en\, handgemachten Arrangements zwischen Weltmusik\, Jazz und Pop.
ATTACH;FMTTYPE=image/jpeg:https://panthony.de/wp-content/uploads/2026/04/D
 ie_Piet-Fische-B-scaled.jpg
LOCATION:Theaterwerkstatt Ulm\, Schillerstrasse 1\, Ulm\, Baden_Württember
 g\, 89077\, Deutschland
X-APPLE-STRUCTURED-LOCATION;VALUE=URI;X-ADDRESS=Schillerstrasse 1\, Ulm\, B
 aden_Württemberg\, 89077\, Deutschland;X-APPLE-RADIUS=100;X-TITLE=Theater
 werkstatt Ulm:geo:0,0
END:VEVENT
BEGIN:VTIMEZONE
TZID:Europe/Berlin
X-LIC-LOCATION:Europe/Berlin
BEGIN:DAYLIGHT
DTSTART:20260329T030000
TZOFFSETFROM:+0100
TZOFFSETTO:+0200
TZNAME:CEST
END:DAYLIGHT
END:VTIMEZONE
END:VCALENDAR